BEGIN:VCALENDAR
VERSION:2.0
PRODID:-//www.neuhausener-schlamp.de - ECPv6.2.6//NONSGML v1.0//EN
CALSCALE:GREGORIAN
METHOD:PUBLISH
X-ORIGINAL-URL:http://neuhausener-schlamp.de
X-WR-CALDESC:Veranstaltungen für www.neuhausener-schlamp.de
REFRESH-INTERVAL;VALUE=DURATION:PT1H
X-Robots-Tag:noindex
X-PUBLISHED-TTL:PT1H
BEGIN:VTIMEZONE
TZID:UTC
BEGIN:STANDARD
TZOFFSETFROM:+0000
TZOFFSETTO:+0000
TZNAME:UTC
DTSTART:20230101T000000
END:STANDARD
END:VTIMEZONE
BEGIN:VEVENT
DTSTART;VALUE=DATE:20230122
DTEND;VALUE=DATE:20230123
DTSTAMP:20260424T182241
CREATED:20230117T133535Z
LAST-MODIFIED:20230118T135852Z
UID:116-1674345600-1674431999@neuhausener-schlamp.de
SUMMARY:LWK Landestreffen in Steinheim
DESCRIPTION:Beginn: 13:00 Uhr \nAbfahrt um 10:00 Uhr \nRückfahrt um 18:00 Uhr
URL:http://neuhausener-schlamp.de/event/lwk-landestreffen-in-steinheim/
END:VEVENT
END:VCALENDAR