BEGIN:VCALENDAR
VERSION:2.0
PRODID:-//www.neuhausener-schlamp.de - ECPv6.2.6//NONSGML v1.0//EN
CALSCALE:GREGORIAN
METHOD:PUBLISH
X-WR-CALNAME:www.neuhausener-schlamp.de
X-ORIGINAL-URL:http://neuhausener-schlamp.de
X-WR-CALDESC:Veranstaltungen für www.neuhausener-schlamp.de
REFRESH-INTERVAL;VALUE=DURATION:PT1H
X-Robots-Tag:noindex
X-PUBLISHED-TTL:PT1H
BEGIN:VTIMEZONE
TZID:UTC
BEGIN:STANDARD
TZOFFSETFROM:+0000
TZOFFSETTO:+0000
TZNAME:UTC
DTSTART:20230101T000000
END:STANDARD
END:VTIMEZONE
BEGIN:VEVENT
DTSTART;VALUE=DATE:20230128
DTEND;VALUE=DATE:20230129
DTSTAMP:20260424T182051
CREATED:20230117T133901Z
LAST-MODIFIED:20230118T135745Z
UID:119-1674864000-1674950399@neuhausener-schlamp.de
SUMMARY:Gruppenvorstellung in den Akademiegärten in Neuhausen
DESCRIPTION:Genaue Info’s folgen noch!
URL:http://neuhausener-schlamp.de/event/gruppenvorstellung-in-den-akademiegaerten-in-neuhausen/
END:VEVENT
END:VCALENDAR