BEGIN:VCALENDAR
VERSION:2.0
PRODID:-//www.neuhausener-schlamp.de - ECPv6.2.6//NONSGML v1.0//EN
CALSCALE:GREGORIAN
METHOD:PUBLISH
X-ORIGINAL-URL:http://neuhausener-schlamp.de
X-WR-CALDESC:Veranstaltungen für www.neuhausener-schlamp.de
REFRESH-INTERVAL;VALUE=DURATION:PT1H
X-Robots-Tag:noindex
X-PUBLISHED-TTL:PT1H
BEGIN:VTIMEZONE
TZID:UTC
BEGIN:STANDARD
TZOFFSETFROM:+0000
TZOFFSETTO:+0000
TZNAME:UTC
DTSTART:20230101T000000
END:STANDARD
END:VTIMEZONE
BEGIN:VEVENT
DTSTART;VALUE=DATE:20230218
DTEND;VALUE=DATE:20230219
DTSTAMP:20260424T165746
CREATED:20230118T135026Z
LAST-MODIFIED:20230118T135026Z
UID:194-1676678400-1676764799@neuhausener-schlamp.de
SUMMARY:Umzug Wernau
DESCRIPTION:Beginn: 14:00 Uhr \nAbfahrt um 12:00 Uhr \nRückfahrt um 16.00 Uhr bis 18:00 Uhr.
URL:http://neuhausener-schlamp.de/event/umzug-wernau/
END:VEVENT
END:VCALENDAR