BEGIN:VCALENDAR
VERSION:2.0
PRODID:-//www.neuhausener-schlamp.de - ECPv6.2.6//NONSGML v1.0//EN
CALSCALE:GREGORIAN
METHOD:PUBLISH
X-WR-CALNAME:www.neuhausener-schlamp.de
X-ORIGINAL-URL:http://neuhausener-schlamp.de
X-WR-CALDESC:Veranstaltungen für www.neuhausener-schlamp.de
REFRESH-INTERVAL;VALUE=DURATION:PT1H
X-Robots-Tag:noindex
X-PUBLISHED-TTL:PT1H
BEGIN:VTIMEZONE
TZID:UTC
BEGIN:STANDARD
TZOFFSETFROM:+0000
TZOFFSETTO:+0000
TZNAME:UTC
DTSTART:20230101T000000
END:STANDARD
END:VTIMEZONE
BEGIN:VEVENT
DTSTART;VALUE=DATE:20230222
DTEND;VALUE=DATE:20230223
DTSTAMP:20260424T165622
CREATED:20230118T135943Z
LAST-MODIFIED:20230118T140256Z
UID:202-1677024000-1677110399@neuhausener-schlamp.de
SUMMARY:Geldbeutelwäsche (und Kutteln wer mag) im Saalbau
DESCRIPTION:Beginn um 12:00 Uhr
URL:http://neuhausener-schlamp.de/event/geldbeutelwaesche-und-kutteln-wer-mag-im-saalbau/
END:VEVENT
END:VCALENDAR