BEGIN:VCALENDAR
VERSION:2.0
PRODID:-//www.neuhausener-schlamp.de - ECPv6.2.6//NONSGML v1.0//EN
CALSCALE:GREGORIAN
METHOD:PUBLISH
X-WR-CALNAME:www.neuhausener-schlamp.de
X-ORIGINAL-URL:http://neuhausener-schlamp.de
X-WR-CALDESC:Veranstaltungen für www.neuhausener-schlamp.de
REFRESH-INTERVAL;VALUE=DURATION:PT1H
X-Robots-Tag:noindex
X-PUBLISHED-TTL:PT1H
BEGIN:VTIMEZONE
TZID:UTC
BEGIN:STANDARD
TZOFFSETFROM:+0000
TZOFFSETTO:+0000
TZNAME:UTC
DTSTART:20230101T000000
END:STANDARD
END:VTIMEZONE
BEGIN:VEVENT
DTSTART;VALUE=DATE:20230501
DTEND;VALUE=DATE:20230502
DTSTAMP:20260424T105740
CREATED:20230120T074812Z
LAST-MODIFIED:20230120T074812Z
UID:243-1682899200-1682985599@neuhausener-schlamp.de
SUMMARY:Maiwanderung
DESCRIPTION:Genaue Info’s folgen noch!
URL:http://neuhausener-schlamp.de/event/maiwanderung/
END:VEVENT
END:VCALENDAR